BEGIN:VCALENDAR
VERSION:2.0
PRODID:-//AudioTheme 3.0.2
BEGIN:VEVENT
UID:urn:uuid:1e036e9c-11a6-416a-a09b-8cf0e70abdae
URL:https://willbernard.com/shows/will-peter-bill-aaron/
DTSTART;TZID=GMT:20190328T000000
SUMMARY:The Stone New School
DESCRIPTION:Peter Apfelbaum\, Bill Laswell\, Will Bernard\, Aaron Johnston
LOCATION:The Stone @the new school\, 55 W 13th St\, New York\, NY\, United States\, 10011
END:VEVENT
END:VCALENDAR
