BEGIN:VCALENDAR
VERSION:2.0
PRODID:-//AudioTheme 3.0.2
BEGIN:VEVENT
UID:urn:uuid:9748477d-287a-4095-ae9b-72b10d536bd6
URL:https://willbernard.com/shows/will-bernards-freelance-subversives-2/
DTSTART;VALUE=DATE:20240410
SUMMARY:Will Bernard's Freelance Subversives
DESCRIPTION:Will Bernard's Freelance Subversives
LOCATION:Sweetwater Music Hall\, 19 Corte Madera Avenue\, Mill Valley\, CA\, United States\, 94941
END:VEVENT
END:VCALENDAR
