BEGIN:VCALENDAR
VERSION:2.0
PRODID:-//AudioTheme 3.0.2
BEGIN:VEVENT
UID:urn:uuid:a57a496b-d451-4ffd-9d3c-8d9df8e69e4a
URL:https://willbernard.com/shows/will-bernards-blue-plate-special-2/
DTSTART;TZID=GMT:20190428T043000
SUMMARY:Blue Plate Special
DESCRIPTION:Will Bernard's Blue Plate Special with Will Bernard\, Stanton Moore\, Skerik\, Andy Hess\, John Medeski
LOCATION:The Maison\, 508 Frenchmen Street\, New Orleans\, LA\, United States\, 70116
END:VEVENT
END:VCALENDAR
