BEGIN:VCALENDAR
VERSION:2.0
PRODID:-//AudioTheme 3.0.2
BEGIN:VEVENT
UID:urn:uuid:fd521dbf-04fe-479e-baed-31b78f66befc
URL:https://willbernard.com/shows/will-bernard-wil-blades-herlin-riley-and-special-guest-play-the-music-of-lonnie-smith/
DTSTART;TZID=GMT:20250430T030000
SUMMARY:Will Bernard, Wil Blades, Herlin Riley and special guest play the music of Lonnie Smith
DESCRIPTION:Frequinauts with WB\, Stanton Moore\, Robert Walter\, Robert Mercurio and Skerik
LOCATION:Blue Nile\, 532 Frenchmen Street\, New Orleans\, LA\, United States\, 70116
END:VEVENT
END:VCALENDAR
