BEGIN:VCALENDAR
VERSION:2.0
PRODID:-//AudioTheme 3.0.2
BEGIN:VEVENT
UID:urn:uuid:f86b9c76-9d1c-41e4-925a-493017c3eef4
URL:https://willbernard.com/shows/will-bernard-trio-with-giulio-campagnolo-and-gioele/
DTSTART;TZID=GMT:20231005T180000
SUMMARY:Will Bernard trio with Giulio Campagnolo and Gioele
DESCRIPTION:Will Bernard trio with Giulio Campagnolo and Gioele 
LOCATION:Circolo Nadir\, 10 Piazzetta Gasparotto Cesira\, Padova\, Veneto\, Italy\, 35131
END:VEVENT
END:VCALENDAR
