BEGIN:VCALENDAR
VERSION:2.0
PRODID:-//AudioTheme 3.0.2
BEGIN:VEVENT
UID:urn:uuid:56cabb7c-2883-40ed-bb50-b6173670bf15
URL:https://willbernard.com/shows/will-bernard-trio-with-giulio-campagnolo-and-gioele-pagliaccia/
DTSTART;TZID=GMT:20231006T180000
SUMMARY:Will Bernard trio with Giulio Campagnolo and Gioele Pagliaccia
DESCRIPTION:Will Bernard trio with Giulio Campagnolo and Gioele Pagliaccia
LOCATION:Osteria della Vigna\, 2 Via dei Mandorli\, Gabicce Mare\, Marche\, Italy\, 61011
END:VEVENT
END:VCALENDAR
