BEGIN:VCALENDAR
VERSION:2.0
PRODID:-//AudioTheme 3.0.2
BEGIN:VEVENT
UID:urn:uuid:2c927141-507f-45f0-9ea1-d76a44f76672
URL:https://willbernard.com/shows/will-bernard-trio-with-giulio-campagnolo-and-gioele-pagliaccia-6/
DTSTART;TZID=GMT:20231014T180000
SUMMARY:Will Bernard trio with Giulio Campagnolo and Gioele Pagliaccia
DESCRIPTION:Will Bernard trio with Giulio Campagnolo and Gioele Pagliaccia
LOCATION:Grand Central\, 2 Piazzetta Monsignor Giuseppe Olivotti\, Venezia\, Veneto\, Italy\, 30171
END:VEVENT
END:VCALENDAR
