BEGIN:VCALENDAR
VERSION:2.0
PRODID:-//AudioTheme 3.0.2
BEGIN:VEVENT
UID:urn:uuid:d71664c1-d9dd-417a-b332-fb8b6756ae8f
URL:https://willbernard.com/shows/will-bernard-trio-with-giulio-campagnolo-and-gioele-pagliaccia-3/
DTSTART;VALUE=DATE:20231010
SUMMARY:Will Bernard trio with Giulio Campagnolo and Gioele Pagliaccia
DESCRIPTION:Will Bernard trio with Giulio Campagnolo and Gioele Pagliaccia
LOCATION:Autofficina Calvart sas\, 106 Via Francesco Zanardi\, Bologna\, Emilia-Romagna\, Italy\, 40131
END:VEVENT
END:VCALENDAR
