BEGIN:VCALENDAR
VERSION:2.0
PRODID:-//AudioTheme 3.0.2
BEGIN:VEVENT
UID:urn:uuid:84e424b9-b2f9-49eb-a3ac-4382fe81afbc
URL:https://willbernard.com/shows/will-bernard-trio-with-giulio-campagnolo-and-gioele-pagliaccia-2/
DTSTART;TZID=GMT:20231007T180000
SUMMARY:Will Bernard trio with Giulio Campagnolo and Gioele Pagliaccia
DESCRIPTION:Will Bernard trio with Giulio Campagnolo and Gioele Pagliaccia
LOCATION:Lo Stran Palato - Blues Club E Restaurant\, 18 Via del Risorgimento\, Brescia\, Lombardia\, Italy\, 25127
END:VEVENT
END:VCALENDAR
