BEGIN:VCALENDAR
VERSION:2.0
PRODID:-//AudioTheme 3.0.2
BEGIN:VEVENT
UID:urn:uuid:a90bfcb2-e551-448c-9d18-cf0e2852e42a
URL:https://willbernard.com/shows/will-bernard-trio-with-eric-kalb-and-eric-finland-3/
DTSTART;TZID=GMT:20220726T030000
SUMMARY:Will Bernard trio with Eric Kalb and Eric Finland
DESCRIPTION:Will Bernard trio with Eric Kalb and Eric Finland
LOCATION:Rockwood Music Hall\, 196 Allen Street\, New York\, NY\, USA\, 10002
END:VEVENT
END:VCALENDAR
