BEGIN:VCALENDAR
VERSION:2.0
PRODID:-//AudioTheme 3.0.2
BEGIN:VEVENT
UID:urn:uuid:fbab3490-d291-42e0-9f78-96f3a469effe
URL:https://willbernard.com/shows/will-bernard-trio-with-danilo-gallo-and-gioele-pagliaccia/
DTSTART;TZID=GMT:20231011T180000
SUMMARY:Will Bernard trio with Danilo Gallo and Gioele Pagliaccia
DESCRIPTION:Will Bernard trio with Danilo Gallo and Gioele Pagliaccia
LOCATION:Circolo del jazz Thelonious\, 12 Viale della Terza Armata\, Trieste\, Friuli-Venezia Giulia\, Italy\, 34123
END:VEVENT
END:VCALENDAR
