BEGIN:VCALENDAR
VERSION:2.0
PRODID:-//AudioTheme 3.0.2
BEGIN:VEVENT
UID:urn:uuid:90c4c348-c840-4445-b930-5d7c860264b8
URL:https://willbernard.com/shows/will-bernard-trio-with-brian-charette-and-joe-dyson/
DTSTART;TZID=GMT:20210827T230000
SUMMARY:Will Bernard trio (with Brian Charette and Joe Dyson)
DESCRIPTION:Will Bernard trio (with Eric Kalb and Eric Finland)
LOCATION:Canary Club\, 303 Broome Street\, New York\, NY\, United States\, 10002
END:VEVENT
END:VCALENDAR
