BEGIN:VCALENDAR
VERSION:2.0
PRODID:-//AudioTheme 3.0.2
BEGIN:VEVENT
UID:urn:uuid:fc1e6e6a-3f7d-4f48-af68-a499ee86f415
URL:https://willbernard.com/shows/will-bernard-trio-54/
DTSTART;TZID=GMT:20260130T033000
SUMMARY:Will Bernard Trio
DESCRIPTION:Will Bernard Trio
LOCATION:Keys Jazz Bistro\, 498 Broadway\, San Francisco\, CA\, United States\, 94133
END:VEVENT
END:VCALENDAR
