BEGIN:VCALENDAR
VERSION:2.0
PRODID:-//AudioTheme 3.0.2
BEGIN:VEVENT
UID:urn:uuid:0ce1c643-8b83-4855-82cb-889c01649929
URL:https://willbernard.com/shows/will-bernard-trio-52/
DTSTART;TZID=GMT:20250408T230000
SUMMARY:Will Bernard Trio with Tony Mason and Adam Chilenski
DESCRIPTION:Will Bernard Trio with Tony Mason and Adam Chilenski
LOCATION:Barbès\, 376 9th Street\, \, NY\, United States\, 11215
END:VEVENT
END:VCALENDAR
