BEGIN:VCALENDAR
VERSION:2.0
PRODID:-//AudioTheme 3.0.2
BEGIN:VEVENT
UID:urn:uuid:66c08baf-7433-4b6e-b9f2-925295da6785
URL:https://willbernard.com/shows/will-bernard-trio-500-with-eric-kalb-and-eric-finland/
DTSTART;TZID=GMT:20251030T020000
SUMMARY:Will Bernard Trio 500 with Eric Kalb and Eric Finland
DESCRIPTION:Will Bernard Trio 500 with Eric Kalb and Eric Finland
LOCATION:The Bitter End\, 147 Bleecker Street\, New York\, NY\, United States\, 10012
END:VEVENT
END:VCALENDAR
