BEGIN:VCALENDAR
VERSION:2.0
PRODID:-//AudioTheme 3.0.2
BEGIN:VEVENT
UID:urn:uuid:0502ae9e-abd8-422c-9625-6583a80866c6
URL:https://willbernard.com/shows/will-bernard-trio-49/
DTSTART;TZID=GMT:20240319T230000
SUMMARY:Will Bernard Trio
DESCRIPTION:Will Bernard Trio
LOCATION:Arthur's Tavern\, 57 Grove Street\, New York\, NY\, United States\, 10014
END:VEVENT
END:VCALENDAR
