BEGIN:VCALENDAR
VERSION:2.0
PRODID:-//AudioTheme 3.0.2
BEGIN:VEVENT
UID:urn:uuid:ff9e670c-6bd6-4544-aa0f-3bc9cc0121b2
URL:https://willbernard.com/shows/will-bernard-trio-48/
DTSTART;TZID=GMT:20240312T230000
SUMMARY:Will Bernard Trio
DESCRIPTION:Will Bernard Trio
LOCATION:Groove\, 125 MacDougal Street\, New York\, NY\, United States\, 10012
END:VEVENT
END:VCALENDAR
