BEGIN:VCALENDAR
VERSION:2.0
PRODID:-//AudioTheme 3.0.2
BEGIN:VEVENT
UID:urn:uuid:56ad708e-8772-4f6a-b6da-5010c49f6027
URL:https://willbernard.com/shows/will-bernard-trio-47/
DTSTART;TZID=GMT:20240414T030000
SUMMARY:Will Bernard Trio
DESCRIPTION:Will Bernard Trio
LOCATION:Murphys Irish Pub\, 415 Main Street\, Murphys\, CA\, United States\, 95247
END:VEVENT
END:VCALENDAR
