BEGIN:VCALENDAR
VERSION:2.0
PRODID:-//AudioTheme 3.0.2
BEGIN:VEVENT
UID:urn:uuid:f1b09cf8-74c0-446c-83d9-e26b33699d03
URL:https://willbernard.com/shows/will-bernard-trio-45/
DTSTART;TZID=GMT:20240117T000000
SUMMARY:Will Bernard Trio
DESCRIPTION:Will Bernard Trio
LOCATION:Groove\, 125 MacDougal Street\, New York\, NY\, United States\, 10012
END:VEVENT
END:VCALENDAR
