BEGIN:VCALENDAR
VERSION:2.0
PRODID:-//AudioTheme 3.0.2
BEGIN:VEVENT
UID:urn:uuid:670a9ee1-2b0d-4b44-b317-21c09fe8803f
URL:https://willbernard.com/shows/will-bernard-trio-39/
DTSTART;TZID=GMT:20230321T230000
SUMMARY:Will Bernard Trio
DESCRIPTION:Will Bernard Trio
LOCATION:Arthur's Tavern\, 57 Grove Street\, New York\, NY\, United States\, 10014
END:VEVENT
END:VCALENDAR
