BEGIN:VCALENDAR
VERSION:2.0
PRODID:-//AudioTheme 3.0.2
BEGIN:VEVENT
UID:urn:uuid:5bb112c2-0659-416e-90bf-9effca271efb
URL:https://willbernard.com/shows/will-bernard-trio-37/
DTSTART;TZID=GMT:20230225T000000
SUMMARY:Will Bernard Trio
DESCRIPTION:Will Bernard Trio
LOCATION:Canary Club\, 303 Broome Street\, New York\, NY\, United States\, 10002
END:VEVENT
END:VCALENDAR
