BEGIN:VCALENDAR
VERSION:2.0
PRODID:-//AudioTheme 3.0.2
BEGIN:VEVENT
UID:urn:uuid:d229aeeb-e7ab-4680-a2ca-fd392c59d7ee
URL:https://willbernard.com/shows/will-bernard-trio-34/
DTSTART;TZID=GMT:20221030T010000
SUMMARY:Will Bernard Trio
DESCRIPTION:Will Bernard Trio
LOCATION:Canary Club\, 303 Broome Street\, New York\, NY\, United States\, 10002
END:VEVENT
END:VCALENDAR
