BEGIN:VCALENDAR
VERSION:2.0
PRODID:-//AudioTheme 3.0.2
BEGIN:VEVENT
UID:urn:uuid:21ce1cca-14af-495b-811c-e6174350e111
URL:https://willbernard.com/shows/will-bernard-trio-33/
DTSTART;VALUE=DATE:
SUMMARY:Will Bernard trio
DESCRIPTION:Will Bernard trio
LOCATION:Arthur's Tavern\, 57 Grove Street\, New York\, NY\, United States\, 10014
END:VEVENT
END:VCALENDAR
