BEGIN:VCALENDAR
VERSION:2.0
PRODID:-//AudioTheme 3.0.2
BEGIN:VEVENT
UID:urn:uuid:fcd12e99-6c15-4446-a19f-736b0513ddd3
URL:https://willbernard.com/shows/will-bernard-trio-32/
DTSTART;TZID=GMT:20230318T030000
SUMMARY:Will Bernard trio
DESCRIPTION:Will Bernard trio
LOCATION:SFJAZZ\, 201 Franklin Street\, San Francisco\, CA\, United States\, 94102
END:VEVENT
END:VCALENDAR
