BEGIN:VCALENDAR
VERSION:2.0
PRODID:-//AudioTheme 3.0.2
BEGIN:VEVENT
UID:urn:uuid:3f891518-0fbe-446d-afcc-c27d38ddf80a
URL:https://willbernard.com/shows/will-bernard-trio-27/
DTSTART;TZID=GMT:20210811T010000
SUMMARY:Will Bernard trio
DESCRIPTION:Will Bernard trio
LOCATION:Freddy's Bar\, 627 5th Avenue\, \, NY\, United States\, 11215
END:VEVENT
END:VCALENDAR
