BEGIN:VCALENDAR
VERSION:2.0
PRODID:-//AudioTheme 3.0.2
BEGIN:VEVENT
UID:urn:uuid:ce8c60e1-95af-48e2-bcc9-92b99fee28b0
URL:https://willbernard.com/shows/will-bernard-trio-26/
DTSTART;TZID=GMT:20211020T230000
SUMMARY:Will Bernard Trio
DESCRIPTION:Will Bernard Trio
LOCATION:Small's\, 183 W 10th St.\, New York\, NY\, 10014
END:VEVENT
END:VCALENDAR
