BEGIN:VCALENDAR
VERSION:2.0
PRODID:-//AudioTheme 3.0.2
BEGIN:VEVENT
UID:urn:uuid:ea478f16-d055-4d77-a4dd-fb91f4302ff0
URL:https://willbernard.com/shows/will-bernard-trio-24/
DTSTART;TZID=GMT:20190525T000000
SUMMARY:Will Bernard Trio
DESCRIPTION:Will Bernard Trio  Will Bernard\, Eric Finland\, Bill Carbone
LOCATION:New Park Brewing\, 485 New Park Avenue\, West Hartford\, CT\, United States\, 06110
END:VEVENT
END:VCALENDAR
