BEGIN:VCALENDAR
VERSION:2.0
PRODID:-//AudioTheme 3.0.2
BEGIN:VEVENT
UID:urn:uuid:0e40b635-a482-4787-a3d0-3cbb48e78cf2
URL:https://willbernard.com/shows/will-bernard-solo-guitar/
DTSTART;VALUE=DATE:20251212
SUMMARY:Will Bernard solo guitar
LOCATION:Hotel Belleclaire\, 2175 Broadway\, New York\, NY\, United States\, 10024
END:VEVENT
END:VCALENDAR
