BEGIN:VCALENDAR
VERSION:2.0
PRODID:-//AudioTheme 3.0.2
BEGIN:VEVENT
UID:urn:uuid:b66ab627-ef04-45e8-8065-79c5f6e1ce5e
URL:https://willbernard.com/shows/will-bernard-solo-guitar-2/
DTSTART;TZID=GMT:20260131T033000
SUMMARY:Will Bernard Solo Guitar
LOCATION:Mitchell Park Community Center\, 3700 Middlefield Road\, Palo Alto\, CA\, United States\, 94303
END:VEVENT
END:VCALENDAR
