BEGIN:VCALENDAR
VERSION:2.0
PRODID:-//AudioTheme 3.0.2
BEGIN:VEVENT
UID:urn:uuid:ee008158-333d-40f9-9fe3-1d03abd4d0a8
URL:https://willbernard.com/shows/will-bernard-scott-amendola-jonathon-maron/
DTSTART;TZID=GMT:20260117T033000
SUMMARY:Will Bernard Scott Amendola Jonathon Maron
DESCRIPTION:Will Bernard Scott Amendola Jonathon Maron
LOCATION:The Back Room\, 1984 bonita ave\, Berkeley\, CA\, United States
END:VEVENT
END:VCALENDAR
