BEGIN:VCALENDAR
VERSION:2.0
PRODID:-//AudioTheme 3.0.2
BEGIN:VEVENT
UID:urn:uuid:7176d871-aeac-4dc1-9c2f-cf4fa01d7cd9
URL:https://willbernard.com/shows/will-bernard-quartet-with-allison-miller-ben-allison-and-john-ellis/
DTSTART;TZID=GMT:20240403T003000
SUMMARY:Will Bernard Quartet With Allison Miller, Ben Allison and John Ellis
DESCRIPTION:Will Bernard Quartet With Allison Miller\, Ben Allison and John Ellis
LOCATION:Birdland Jazz Club\, 315 West 44th Street\, New York\, NY\, United States\, 10036
END:VEVENT
END:VCALENDAR
