BEGIN:VCALENDAR
VERSION:2.0
PRODID:-//AudioTheme 3.0.2
BEGIN:VEVENT
UID:urn:uuid:c2dcc9d9-03ab-4e95-ac13-d518cdc41e83
URL:https://willbernard.com/shows/will-bernard-quartet-5/
DTSTART;TZID=GMT:20181012T010000
SUMMARY:Will Bernard Quartet
LOCATION:Small's\, 183 W 10th St.\, New York\, NY\, 10014
END:VEVENT
END:VCALENDAR
