BEGIN:VCALENDAR
VERSION:2.0
PRODID:-//AudioTheme 3.0.2
BEGIN:VEVENT
UID:urn:uuid:ef74e508-97a0-46b4-9eaf-40cb515bea20
URL:https://willbernard.com/shows/will-bernard-quartet-13/
DTSTART;TZID=GMT:20260212T010000
SUMMARY:Will Bernard Quartet
DESCRIPTION:Will Bernard Quartet
LOCATION:Dizzy's Club\, 10 Columbus Circle\, New York\, NY\, United States\, 10019
END:VEVENT
END:VCALENDAR
