BEGIN:VCALENDAR
VERSION:2.0
PRODID:-//AudioTheme 3.0.2
BEGIN:VEVENT
UID:urn:uuid:83b15e25-1efd-4d4f-8e70-0ee4c3d703a1
URL:https://willbernard.com/shows/will-bernard-oz-noy-with-andy-hess-and-josh-dion/
DTSTART;TZID=GMT:20250328T020000
SUMMARY:Will Bernard/ OZ Noy with Andy Hess and Josh Dion
DESCRIPTION:Will Bernard/ OZ Noy with Andy Hess and Josh Dion
LOCATION:The Bitter End\, 147 Bleecker Street\, New York\, NY\, United States\, 10012
END:VEVENT
END:VCALENDAR
