BEGIN:VCALENDAR
VERSION:2.0
PRODID:-//AudioTheme 3.0.2
BEGIN:VEVENT
UID:urn:uuid:37295928-bbe4-48ce-985a-2111cf05504b
URL:https://willbernard.com/shows/will-bernard-oz-noy-with-adam-minkoff-and-josh-dion/
DTSTART;TZID=GMT:20231230T010000
SUMMARY:Will Bernard Oz Noy with Adam Minkoff and Josh Dion
DESCRIPTION:Will Bernard Oz Noy with Adam Minkoff and Josh Dion
LOCATION:The Bitter End\, 147 Bleecker Street\, New York\, NY\, United States\, 10012
END:VEVENT
END:VCALENDAR
