BEGIN:VCALENDAR
VERSION:2.0
PRODID:-//AudioTheme 3.0.2
BEGIN:VEVENT
UID:urn:uuid:effe471d-78f3-4191-9914-7a7731f46ac3
URL:https://willbernard.com/shows/will-bernard-oz-noy-band-with-adam-minkoff-and-josh-dion/
DTSTART;TZID=GMT:20240531T010000
SUMMARY:Will Bernard/Oz Noy Band with Adam Minkoff and Josh Dion
DESCRIPTION:Will Bernard/Oz Noy Band with Adam Minkoff and Josh Dion
LOCATION:The Bitter End\, 147 Bleecker Street\, New York\, NY\, United States\, 10012
END:VEVENT
END:VCALENDAR
