BEGIN:VCALENDAR
VERSION:2.0
PRODID:-//AudioTheme 3.0.2
BEGIN:VEVENT
UID:urn:uuid:253c16e8-06fa-4223-89f9-99e0806b08d7
URL:https://willbernard.com/shows/will-bernard-masterclass/
DTSTART;TZID=GMT:20180920T190000
SUMMARY:Will Bernard Masterclass
LOCATION:Bellinghome School of Music\, 2512 Meridian Street\, Bellingham\, WA\, United States\, 98225
END:VEVENT
END:VCALENDAR
