BEGIN:VCALENDAR
VERSION:2.0
PRODID:-//AudioTheme 3.0.2
BEGIN:VEVENT
UID:urn:uuid:3b50dec3-dedc-45bd-8546-90f0a8bb89ca
URL:https://willbernard.com/shows/will-bernard-kevin-scott-mike-dillon/
DTSTART;TZID=GMT:20240428T010000
SUMMARY:Will Bernard, Kevin Scott, Mike Dillon
DESCRIPTION:Will Bernard\, Kevin Scott\, Mike Dillon
LOCATION:Happyland Theater\, 3126 Burgundy Street\, New Orleans\, LA\, United States\, 70117
END:VEVENT
END:VCALENDAR
