BEGIN:VCALENDAR
VERSION:2.0
PRODID:-//AudioTheme 3.0.2
BEGIN:VEVENT
UID:urn:uuid:762464a5-25db-448b-939b-ade45781c8fe
URL:https://willbernard.com/shows/will-bernard-kevin-scott-marlon-patton-2/
DTSTART;TZID=GMT:20240528T230000
SUMMARY:Will Bernard, Kevin Scott, Marlon Patton
DESCRIPTION:Will Bernard\, Kevin Scott\, Marlon Patton
LOCATION:Groove\, 125 MacDougal Street\, New York\, NY\, United States\, 10012
END:VEVENT
END:VCALENDAR
