BEGIN:VCALENDAR
VERSION:2.0
PRODID:-//AudioTheme 3.0.2
BEGIN:VEVENT
UID:urn:uuid:d8b653bf-dc52-4e23-b19b-c5cc92eef81a
URL:https://willbernard.com/shows/will-bernard-joe-doria-tarik-abouzied/
DTSTART;VALUE=DATE:20190513
SUMMARY:Will Bernard, Joe Doria, Tarik Abouzied
LOCATION:Rhythm and Rye\, 311 Capitol Way North\, Olympia\, WA\, United States\, 98501
END:VEVENT
END:VCALENDAR
