BEGIN:VCALENDAR
VERSION:2.0
PRODID:-//AudioTheme 3.0.2
BEGIN:VEVENT
UID:urn:uuid:b2f93770-f587-4943-b594-0adac89b0671
URL:https://willbernard.com/shows/will-bernard-joe-doria-tarik-abouzied-2/
DTSTART;TZID=GMT:20190514T040000
SUMMARY:Will Bernard, Joe Doria, Tarik Abouzied
DESCRIPTION:Will Bernard\, Joe Doria\, Tarik Abouzied
LOCATION:Rhythm and Rye\, 311 Capitol Way North\, Olympia\, WA\, United States\, 98501
END:VEVENT
END:VCALENDAR
