BEGIN:VCALENDAR
VERSION:2.0
PRODID:-//AudioTheme 3.0.2
BEGIN:VEVENT
UID:urn:uuid:85eae526-1a08-4c37-93f7-946d0ae7cc32
URL:https://willbernard.com/shows/will-bernard-james-singleton-justin-peake/
DTSTART;TZID=GMT:20190504T040000
SUMMARY:Will Bernard, James Singleton, Justin Peake
DESCRIPTION:Will Bernard\, James Singleton. Justin Peake
LOCATION:SideBar Nola\, 611 South White Street\, New Orleans\, LA\, United States\, 70119
END:VEVENT
END:VCALENDAR
