BEGIN:VCALENDAR
VERSION:2.0
PRODID:-//AudioTheme 3.0.2
BEGIN:VEVENT
UID:urn:uuid:a4df5980-954a-4d3b-993e-5446c1c1ae3e
URL:https://willbernard.com/shows/will-bernard-james-singleton-justin-peake-3/
DTSTART;TZID=GMT:20200501T010000
SUMMARY:Will Bernard, James Singleton, Justin Peake
LOCATION:SideBar Nola\, 611 South White Street\, New Orleans\, LA\, United States\, 70119
END:VEVENT
END:VCALENDAR
