BEGIN:VCALENDAR
VERSION:2.0
PRODID:-//AudioTheme 3.0.2
BEGIN:VEVENT
UID:urn:uuid:d76c6777-92ca-4796-99f3-826d3e4c8601
URL:https://willbernard.com/shows/will-bernard-james-singleton-justin-peake-2/
DTSTART;TZID=GMT:20191001T000000
SUMMARY:Will Bernard, James Singleton, Justin Peake
DESCRIPTION:Will Bernard\, James Singleton\, Justin Peake
LOCATION:SideBar Nola\, 611 South White Street\, New Orleans\, LA\, United States\, 70119
END:VEVENT
END:VCALENDAR
