BEGIN:VCALENDAR
VERSION:2.0
PRODID:-//AudioTheme 3.0.2
BEGIN:VEVENT
UID:urn:uuid:224fd691-4358-4e89-a6ac-9df8fa578eeb
URL:https://willbernard.com/shows/will-bernard-ikue-mori-mike-mcginnis-kirk-knufke-charlie-burnam-brian-chase/
DTSTART;TZID=GMT:20191020T000000
SUMMARY:Will Bernard, Ikue Mori, Mike Mcginnis, Kirk Knufke, Charlie Burnam, Brian Chase
DESCRIPTION:Will Bernard\, Ikue Mori\, Mike Mcginnis\, Kirk Knufke\, Charlie Burnam\, Brian Chase
LOCATION:The Stone @the new school\, 55 W 13th St\, New York\, NY\, United States\, 10011
END:VEVENT
END:VCALENDAR
