BEGIN:VCALENDAR
VERSION:2.0
PRODID:-//AudioTheme 3.0.2
BEGIN:VEVENT
UID:urn:uuid:ac060c34-b85d-489b-b38b-440605d9d6ca
URL:https://willbernard.com/shows/will-bernard-freelance-subversives/
DTSTART;TZID=GMT:20200512T000000
SUMMARY:Will Bernard- Freelance Subversives
DESCRIPTION:CANCELED DUE TO PANDEMIC
LOCATION:Freight and Salvage\, 2020 Addison Street \, Berkeley\, CA\, USA	\, 94704
END:VEVENT
END:VCALENDAR
