BEGIN:VCALENDAR
VERSION:2.0
PRODID:-//AudioTheme 3.0.2
BEGIN:VEVENT
UID:urn:uuid:087d941d-94f8-4f5c-b762-7e60e7b40940
URL:https://willbernard.com/shows/will-bernard-freelance-subversives-5/
DTSTART;TZID=GMT:20241107T010000
SUMMARY:Will Bernard Freelance Subversives
DESCRIPTION:Will Bernard Freelance Subversives
LOCATION:The Bitter End\, 147 Bleecker Street\, New York\, NY\, United States\, 10012
END:VEVENT
END:VCALENDAR
