BEGIN:VCALENDAR
VERSION:2.0
PRODID:-//AudioTheme 3.0.2
BEGIN:VEVENT
UID:urn:uuid:10fe0c4a-6990-44ab-8f33-118bf8057dcf
URL:https://willbernard.com/shows/will-bernard-freelance-subversives-3/
DTSTART;TZID=GMT:20200509T050000
SUMMARY:Will Bernard Freelance Subversives
DESCRIPTION:Will Bernard Freelance Subversives  CANCELED DUE TO PANDEMIC
LOCATION:Crazy Horse Saloon and Grill\, 230 Commercial Street\, Nevada City\, CA\, United States\, 95959
END:VEVENT
END:VCALENDAR
