BEGIN:VCALENDAR
VERSION:2.0
PRODID:-//AudioTheme 3.0.2
BEGIN:VEVENT
UID:urn:uuid:a39974aa-4003-4f00-aff9-e7118c69b5a5
URL:https://willbernard.com/shows/will-bernard-eric-kalb-eric-finland-trio-2/
DTSTART;TZID=GMT:20231206T000000
SUMMARY:Will Bernard Eric Kalb Eric Finland Trio
DESCRIPTION:Will Bernard Eric Kalb Eric Finland Trio
LOCATION:Groove\, 125 MacDougal Street\, New York\, NY\, United States\, 10012
END:VEVENT
END:VCALENDAR
