BEGIN:VCALENDAR
VERSION:2.0
PRODID:-//AudioTheme 3.0.2
BEGIN:VEVENT
UID:urn:uuid:0f28e6f8-f98a-4b18-94e6-7b01e500df86
URL:https://willbernard.com/shows/will-bernard-donald-edwards-matt-pavolka/
DTSTART;TZID=GMT:20191123T003000
SUMMARY:Will Bernard, Donald Edwards, Matt Pavolka
DESCRIPTION:Will Bernard\, Donald Edwards\, Matt Pavolka
LOCATION:Bar Next Door at La Lanterna di Vittorio\, 129 Macdougal Street\, New York\, NY\, United States\, 10012
END:VEVENT
END:VCALENDAR
